BEGIN:VCALENDAR
VERSION:2.0
PRODID:https://github.com/derhansen/sf_event_mgt
METHOD:PUBLISH
BEGIN:VEVENT
UID:14744-611@www.maine-et-loire.fr
CLASS: PUBLIC
SUMMARY:PiÃ¨ces d'eaux
DESCRIPTION:Dans le cadre des Rendez-vous nature 2026.\n\nÂ« La derniÃ¨re f
 ois que tu as jetÃ© des cailloux dans lâ€™eau, tu tâ€™en rappelles ? Tu cr
 ois que des princesses aux longs cheveux mouillÃ©s vivent dans les chÃ¢tea
 ux dâ€™eau ? Tu Ã©coutes la pluie lorsquâ€™elle tombe sur les vitres de ta
  maison ? Tu as attrapÃ© la lune au fond de lâ€™eau avec un filet de pÃªch
 e ? Les flaques dâ€™eau ? Tu sautes dans les flaques dâ€™eau ? Tu sais dâ€
 ™oÃ¹ elle est venue la premiÃ¨re goutte dâ€™eau ? Un jour une femme a perd
 u les eaux, et au milieu de lâ€™eau, câ€™Ã©tait toi ! Â» Une crÃ©ation poÃ
 ©tique et musicale qui permet de prÃ©senter de nouveaux rÃ©cits sur la rel
 ation vitale que lâ€™humanitÃ© entretient avec lâ€™eau.
LOCATION:Au bout de la rue du Moulinaie
DTSTAMP:20260209T152551Z
DTSTART:20260530T115539Z
DTEND:20260530T115539Z
END:VEVENT
END:VCALENDAR