BEGIN:VCALENDAR
VERSION:2.0
PRODID:https://github.com/derhansen/sf_event_mgt
METHOD:PUBLISH
BEGIN:VEVENT
UID:14867-611@www.maine-et-loire.fr
CLASS: PUBLIC
SUMMARY:Pièces d'eaux
DESCRIPTION:Dans le cadre des Rendez-vous nature 2026.\n\nDécouvrez une cr
 éation poétique et musicale qui permet de présenter de nouveaux récits
  sur la relation vitale que l’humanité entretient avec l’eau.
LOCATION:Parking communal, face au 2147 Chambiers
DTSTAMP:20260209T154207Z
DTSTART:20260829T115540Z
DTEND:20260829T115540Z
END:VEVENT
END:VCALENDAR