BEGIN:VCALENDAR
VERSION:2.0
PRODID:https://github.com/derhansen/sf_event_mgt
METHOD:PUBLISH
BEGIN:VEVENT
UID:15200-569@www.maine-et-loire.fr
CLASS: PUBLIC
SUMMARY:Pierre et le loup
DESCRIPTION:Un musicien multi-instrumentiste et trois marionnettistes se rÃ
 ©unissent pour vous faire revivre le cÃ©lÃ¨bre conte musical...Avec des ma
 rionnettes Ã  gaine, taille humaine et Ã  fils !\n\nVous retrouverez les m
 Ãªmes personnages du conte, les mÃªmes thÃ¨mes musicaux... mais avec des i
 nstruments de musique, une mise en scÃ¨ne et des dialogues Ã  la sauce TÃª
 tes en l'air !\n\nCe spectacle s'amuse Ã  jouer avec les Ã©motions du publ
 ic... entre le rire et la peur, les spectateurs petits et grands sont imme
 rgÃ©s dans cette histoire intemporelle et dÃ©licieuse.
LOCATION:Salle des fÃªtes de MÃ©on
5 Place de la mairie de MÃ©on
DTSTAMP:20260312T143632Z
DTSTART:20261002T220000Z
DTEND:20261002T220000Z
END:VEVENT
END:VCALENDAR