BEGIN:VCALENDAR
VERSION:2.0
PRODID:https://github.com/derhansen/sf_event_mgt
METHOD:PUBLISH
BEGIN:VEVENT
UID:14248-569@www.maine-et-loire.fr
CLASS: PUBLIC
SUMMARY:Place Ã  l'Ã©tÃ© ! Les Chroniques POP + Love Boat
DESCRIPTION:Des spectacles de rue Place du Champ de Foire pour boucler la s
 aison. Le thÃ©Ã¢tre est dans la place, tout le monde dehors !\n\nLes Chron
 iques POP - Cie 29X27\n\nEt si vous Ã©tiez invitÃ©s Ã  assister Ã  lâ€™enr
 egistrement dâ€™une cÃ©lÃ¨bre Ã©mission de variÃ©tÃ©s des annÃ©es 80 ? Et 
 si ce tournage Ã©tait Ã©pique et foutraque ? Arrivera-t-on Ã  retrouver lâ
 €™animateur vedette ? Et que faire de toutes ces rÃ©fÃ©rences Ã  une dÃ©ce
 nnie de pop culture ?\n\nEntre danse, texte et chansons, Les Chroniques PO
 P font appel Ã  la mÃ©moire collective et empruntent leurs rÃ©fÃ©rences Ã 
  la publicitÃ©, au cinÃ©ma, Ã  la musique, Ã  la sociÃ©tÃ©â€¦\n\nLes inter
 prÃ¨tes incarnent, le temps de quelques secondes, une foultitude de person
 nes sans quâ€™on en dessine prÃ©cisÃ©ment les frontiÃ¨res.\n\nEt si vous p
 rolongiez la soirÃ©e sur la piste de danse avec lâ€™Ã©quipe du spectacle p
 our un temps de bal festif et participatif ?\n\nLOVE BOAT - Les CroisiÃ¨re
 s de lâ€™Amour\n\nLe Love Boat Orchestre vous embarque en croisiÃ¨re pour 
 faire triompher l'amour et sa musique sur les mers du monde entierâ€¦\n\nL
 e capitaine LOVE et son Ã©quipage vous entraÃ®nent et vous ambiancent au s
 on du charleston, du swing, de la salsa, du rock, de la mambo ou encore de
  la biguineâ€¦ Tous les styles y passent pour vous faire danser sur la pla
 ylist idÃ©ale de l'amour.
LOCATION:Place du Champ de Foire
DTSTAMP:20260105T155112Z
DTSTART:20260605T220000Z
DTEND:20260605T220000Z
END:VEVENT
END:VCALENDAR