BEGIN:VCALENDAR
VERSION:2.0
PRODID:https://github.com/derhansen/sf_event_mgt
METHOD:PUBLISH
BEGIN:VEVENT
UID:14340-569@www.maine-et-loire.fr
CLASS: PUBLIC
SUMMARY:Plante comestible
DESCRIPTION:Animation 123 balades! de l'association Horizon Bocage\n\nVenez
  (re)découvrir les plantes sauvages au fil de l’eau, le long de l’Hyr
 ôme sauvage. Sont-elles comestibles? Comment les reconnaître ? Michel Ko
 tenkoff, un passionné du monde végétal, vous accompagne. Pendant cette 
 balade conviviale, participative, sensorielle et parsemée d’anecdotes, 
 il vous parlera des pistes d’identification, des possibilités culinaire
 s simples et des usages.\n\nNous croiserons des plantes de sous-bois, haie
 s, lisières, prairies, que vous pourrez trouver potentiellement dans votr
 e jardin ou près de chez vous.\n\nUne invitation à « plonger » dans la
  biodiversité végétale locale.\n\nInscription au 07 67 49 03 82 ou hori
 zonbocage@gmail.com 
LOCATION:La Roche Jeannette 
Chemillé
DTSTAMP:20260120T112556Z
DTSTART:20260925T220000Z
DTEND:20260925T220000Z
END:VEVENT
END:VCALENDAR