BEGIN:VCALENDAR
VERSION:2.0
PRODID:https://github.com/derhansen/sf_event_mgt
METHOD:PUBLISH
BEGIN:VEVENT
UID:14724-611@www.maine-et-loire.fr
CLASS: PUBLIC
SUMMARY:PlantÃ©eÂ ! La vie en vert
DESCRIPTION:Dans le cadre des Rendez-vous nature 2026.\n\nDÃ©couvrez la vie
  de Ciboulette, une plante pas comme les autres, Ã  travers le spectacle Â
 «Â PlantÃ©eÂ Â»Â , de la Compagnie Oscar et MoliÃ¨reÂ ! Â«Â Pas trÃ¨s Ã  l
 â€™aise avec les autres humains, Ciboulette a tellement Ã©tÃ© prise pour u
 ne plante verte, quâ€™elle en est devenue une pour de vrai ! A sa grande s
 urprise, elle dÃ©couvre la joie de pousser et de s'Ã©panouir au milieu des
  herbes et des insectes...Â Elle nous fait partager son nouvel Ã©tat, ses 
 sensations nouvelles, ses rencontresâ€¦ Jusqu'au jour oÃ¹ le GrosGrasGoudr
 on les attaque, elle et ses copines ! Il faudra tous les super-pouvoirs de
 s vÃ©gÃ©taux alentours pour s'en sortir. Un spectacle burlesque sur la con
 fiance en soi, qui va faire germer des idÃ©es Ã©colos et coopÃ©ratives dan
 s les tÃªtes des enfants... et de leurs parents !Â Â».\n\nÃ€ lâ€™issue de 
 la reprÃ©sentation, la comÃ©dienne propose un temps dâ€™Ã©change pÃ©dagogi
 que, permettant dâ€™approfondir des connaissances sur les diffÃ©rents pers
 onnages de faune et de flore Ã©voquÃ©s dans le spectacle et prÃ©sents dans
  les basses vallÃ©es angevines. Au programmeÂ : anecdotes, observations, m
 anipulations dâ€™Ã©lÃ©ments naturels, jeux apportant des connaissances sur
  le vÃ©gÃ©tal et son Ã©cosystÃ¨me.
LOCATION:Rue des Moulins
Morannes
DTSTAMP:20260331T081333Z
DTSTART:20260520T115539Z
DTEND:20260520T115539Z
END:VEVENT
END:VCALENDAR