BEGIN:VCALENDAR
VERSION:2.0
PRODID:https://github.com/derhansen/sf_event_mgt
METHOD:PUBLISH
BEGIN:VEVENT
UID:14751-611@www.maine-et-loire.fr
CLASS: PUBLIC
SUMMARY:Plantée ! Sous les têtards
DESCRIPTION:Dans le cadre des Rendez-vous nature 2026.\n\nAu cœur du Chemi
 n du Roi, à l’ombre des arbres têtards, découvrez la vie de Ciboulett
 e, une plante pas comme les autres, à travers le spectacle « Plantée 
 » ! « Pas très à l’aise avec les autres humains, Ciboulette a tell
 ement été prise pour une plante verte, qu’elle en est devenue une pour
  de vrai ! À sa grande surprise, elle découvre la joie de pousser et de 
 s'épanouir au milieu des herbes et des insectes... Elle nous fait partag
 er son nouvel état, ses sensations nouvelles, ses rencontres… Jusqu'au 
 jour où le GrosGrasGoudron les attaque, elle et ses copines ! Il faudra t
 ous les super-pouvoirs des végétaux alentours pour s'en sortir. Un spect
 acle burlesque sur la confiance en soi, qui va faire germer des idées éc
 olos et coopératives dans les têtes des enfants... et de leurs parents !
  »\n\nÀ l’issue de la représentation, la comédienne propose un temp
 s d’échange pédagogique, permettant d’approfondir des connaissances 
 sur les différents personnages de faune et de flore évoqués dans le spe
 ctacle et présents dans les basses vallées angevines. Au programme : an
 ecdotes, observations, manipulations d’éléments naturels, jeux apporta
 nt des connaissances sur le végétal et son écosystème.\n\nAnimation fa
 isant partie de la soirée « Contes sous les têtards » de l'association
  des Têtards du Chemin du Roi, de 17 h à 22 h.
LOCATION:1080 route de la sablière
DTSTAMP:20260331T081347Z
DTSTART:20260530T115539Z
DTEND:20260530T115539Z
END:VEVENT
END:VCALENDAR