BEGIN:VCALENDAR
VERSION:2.0
PRODID:https://github.com/derhansen/sf_event_mgt
METHOD:PUBLISH
BEGIN:VEVENT
UID:14760-611@www.maine-et-loire.fr
CLASS: PUBLIC
SUMMARY:Plantes et rivages
DESCRIPTION:Dans le cadre des Rendez-vous nature 2026.\n\nBalade botanique 
 à Écouflant pour découvrir les plantes des rives de la Sarthe et leur r
 ôle dans la dépollution des rivières. Dégustation d’une tisane artis
 anale.
LOCATION:Place de la Mairie
DTSTAMP:20260209T152749Z
DTSTART:20260605T115539Z
DTEND:20260605T115539Z
END:VEVENT
END:VCALENDAR