BEGIN:VCALENDAR
VERSION:2.0
PRODID:https://github.com/derhansen/sf_event_mgt
METHOD:PUBLISH
BEGIN:VEVENT
UID:14815-611@www.maine-et-loire.fr
CLASS: PUBLIC
SUMMARY:Plantes guérisseuses d’ici
DESCRIPTION:Dans le cadre des Rendez-vous nature 2026.\n\nLes plantes sauva
 ges ont depuis longtemps été utilisées par l'Homme. Nos grands-mères l
 es employaient avec aisance, pour soulager les maux du quotidien. À l'heu
 re du retour au naturel, apprenez à les reconnaître, les utiliser et les
  préserver au mieux.
LOCATION:L'Engrenage-Moulin
Villevêque
DTSTAMP:20260209T153515Z
DTSTART:20260711T115539Z
DTEND:20260711T115539Z
END:VEVENT
END:VCALENDAR