BEGIN:VCALENDAR
VERSION:2.0
PRODID:https://github.com/derhansen/sf_event_mgt
METHOD:PUBLISH
BEGIN:VEVENT
UID:14699-611@www.maine-et-loire.fr
CLASS: PUBLIC
SUMMARY:Plantes sauvages comestibles
DESCRIPTION:Dans le cadre des Rendez-vous nature 2026.\n\nDéambulation à 
 la rencontre des plantes sauvages comestibles. Les identifier, les nommer 
 et découvrir leurs utilisations. C'est une invitation à venir créer du 
 lien avec la biodiversité proche. Petite dégustation en fin de balade.
LOCATION:Étang Saint-Aubin
Pouancé
DTSTAMP:20260209T151256Z
DTSTART:20260424T115539Z
DTEND:20260424T115539Z
END:VEVENT
END:VCALENDAR