BEGIN:VCALENDAR
VERSION:2.0
PRODID:https://github.com/derhansen/sf_event_mgt
METHOD:PUBLISH
BEGIN:VEVENT
UID:14784-611@www.maine-et-loire.fr
CLASS: PUBLIC
SUMMARY:Plantes sauvages en kayak
DESCRIPTION:Dans le cadre des Rendez-vous nature 2026.\n\nAprÃ¨s une prise 
 en main du kayak, partez au fil de lâ€™eau. Voguer sur la riviÃ¨re permett
 ra de sâ€™apaiser et de sâ€™ouvrir aux sens, bien utiles pour rencontrer l
 es plantes. La balade sera commentÃ©e par NoÃ«lle Piquet de Nature et Simp
 les durant laquelle elle abordera des spÃ©cificitÃ©s du milieu de la ripis
 ylve et des enjeux de la cueillette sauvage. Vous identifierez quelques pl
 antes avec des critÃ¨res de reconnaissance permettant de devenir autonome.
  Leurs usages traditionnels, leurs vertus pour le bien-Ãªtre et leurs usag
 es en cuisine seront Ã©galement abordÃ©s. La balade se clÃ´tura par une dÃ
 ©gustation dâ€™une boisson Â« sauvage Â».Â 
LOCATION:1 Route de la Mayenne
DTSTAMP:20260209T153207Z
DTSTART:20260614T115539Z
DTEND:20260614T115539Z
END:VEVENT
END:VCALENDAR