BEGIN:VCALENDAR
VERSION:2.0
PRODID:https://github.com/derhansen/sf_event_mgt
METHOD:PUBLISH
BEGIN:VEVENT
UID:13878-570@www.maine-et-loire.fr
CLASS: PUBLIC
SUMMARY:Playground
DESCRIPTION:Cirque comique participatif
LOCATION:En extérieur
DTSTAMP:20251021T125930Z
DTSTART:20260425T220000Z
DTEND:20260425T220000Z
END:VEVENT
END:VCALENDAR