BEGIN:VCALENDAR
VERSION:2.0
PRODID:https://github.com/derhansen/sf_event_mgt
METHOD:PUBLISH
BEGIN:VEVENT
UID:13738-570@www.maine-et-loire.fr
CLASS: PUBLIC
SUMMARY:Pling Klang
DESCRIPTION:Pling Klang, deux hommes qui s'interrogent sur leur manière d'
 être en couple et/ou de relationner.
LOCATION:Salle la Belle Angerie
Marans
DTSTAMP:20250627T140936Z
DTSTART:20260528T220000Z
DTEND:20260529T220000Z
END:VEVENT
END:VCALENDAR