BEGIN:VCALENDAR
VERSION:2.0
PRODID:https://github.com/derhansen/sf_event_mgt
METHOD:PUBLISH
BEGIN:VEVENT
UID:15106-569@www.maine-et-loire.fr
CLASS: PUBLIC
SUMMARY:Porte ouverte filière bois
DESCRIPTION:Nous ouvrons les portes de notre local bois le samedi 23 mai de
  9 h à 12 h au lieu-dit Pont Besnard à Chemillé.\n\nVenez découvrir no
 tre filière bois d'œuvre local : entretien des haies, valorisation d'arb
 res tombés jusqu'au sciage en planches. Vous pouvez ensuite le valoriser 
 en réalisant vos projets avec ce bois de nos communes. Nous pouvons vous 
 conseiller sur place pour le choix des essences notamment.\n\nEn stock nou
 s avons les essences suivantes: peuplier, séquoia, chêne, frêne, tilleu
 l, aulne, merisier, robinier / acacia, marronnier, châtaignier, cyprès, 
 érable, hêtre ... Nous avons également du bois de récupération (palet
 tes désossées).
LOCATION:Lieu dit le Pont Besnard
DTSTAMP:20260217T145053Z
DTSTART:20260522T220000Z
DTEND:20260522T220000Z
END:VEVENT
END:VCALENDAR