BEGIN:VCALENDAR
VERSION:2.0
PRODID:https://github.com/derhansen/sf_event_mgt
METHOD:PUBLISH
BEGIN:VEVENT
UID:15107-569@www.maine-et-loire.fr
CLASS: PUBLIC
SUMMARY:Porte ouverte filière bois
DESCRIPTION:Nous ouvrons les portes de notre local bois le samedi 12 septem
 bre de 9 h à 12 h au lieu-dit Pont Besnard à Chemillé.\n\nVenez découv
 rir notre filière bois d'œuvre local : entretien des haies, valorisation
  d'arbres tombés jusqu'au sciage en planches. Vous pouvez ensuite le valo
 riser en réalisant vos projets avec ce bois de nos communes. Nous pouvons
  vous conseiller sur place pour le choix des essences notamment.\n\nEn sto
 ck nous avons les essences suivantes peuplier, séquoia, chêne, frêne, t
 illeul, aulne, merisier, robinier / acacia, marronnier, châtaignier, cypr
 ès, érable, hêtre ... Nous avons également du bois de récupération (
 palettes désossées).
LOCATION:Le Pont Besnard
DTSTAMP:20260217T143802Z
DTSTART:20260911T220000Z
DTEND:20260911T220000Z
END:VEVENT
END:VCALENDAR