BEGIN:VCALENDAR
VERSION:2.0
PRODID:https://github.com/derhansen/sf_event_mgt
METHOD:PUBLISH
BEGIN:VEVENT
UID:15136-569@www.maine-et-loire.fr
CLASS: PUBLIC
SUMMARY:Portes ouvertes Tonton Bacchus
DESCRIPTION:Nous vous invitons à nos Portes Ouvertes le samedi 25 avril de
  10 h à 19 h à Coron.\n\nVenez passer un moment convivial autour du vin 
 avec :\n\n 	Dégustations de vins 	Rencontres avec des vignerons 	Ambiance
  chaleureuse et conviviale 	Offres exclusives sur place 	Food truck prése
 nt toute la journée \n\nUne belle occasion de découvrir de nouveaux vins
  et d’échanger directement avec les producteurs.
LOCATION:2 Lieu-dit Le Rêve
DTSTAMP:20260331T082131Z
DTSTART:20260424T220000Z
DTEND:20260424T220000Z
END:VEVENT
END:VCALENDAR