BEGIN:VCALENDAR
VERSION:2.0
PRODID:https://github.com/derhansen/sf_event_mgt
METHOD:PUBLISH
BEGIN:VEVENT
UID:15030-1587@www.maine-et-loire.fr
CLASS: PUBLIC
SUMMARY:Pouvoir
DESCRIPTION:Quand une marionnette veut prendre les rênes de l’histoire, 
 ses manipulateurs en perdent le fil. Pouvoir, auréolé de nombreux prix, 
 s’avère un tour de force marionnettique à six mains souvent drôle, to
 ujours intelligent, qui s’amuse des codes du théâtre pour notre plus g
 rand plaisir.
LOCATION:Le Quai CDN
Cale de la Savatte
DTSTAMP:20260203T133433Z
DTSTART:20260519T170000Z
DTEND:20260521T180000Z
END:VEVENT
END:VCALENDAR