BEGIN:VCALENDAR
VERSION:2.0
PRODID:https://github.com/derhansen/sf_event_mgt
METHOD:PUBLISH
BEGIN:VEVENT
UID:13604-570@www.maine-et-loire.fr
CLASS: PUBLIC
SUMMARY:Prisme (ou le plumage coloré des sons)
DESCRIPTION:Dans un jardin, une aventurière rencontre un gardien. C’est 
 la découverte de couleurs et de sons, où tous les secrets se chantent. V
 oix douces et guitare invitent les esprits à s’émouvoir et s’envoler
 .
LOCATION:Salle Boris Vian
2 rue du Prieuré
Saint-Macaire-en-Mauges
DTSTAMP:20250624T101237Z
DTSTART:20260519T220000Z
DTEND:20260519T220000Z
END:VEVENT
END:VCALENDAR