BEGIN:VCALENDAR
VERSION:2.0
PRODID:https://github.com/derhansen/sf_event_mgt
METHOD:PUBLISH
BEGIN:VEVENT
UID:15230-1587@www.maine-et-loire.fr
CLASS: PUBLIC
SUMMARY:Quatuor Ellipsos
DESCRIPTION:Le Quatuor Ellipsos, ensemble de saxophones classiques saluĂ© Ă
   travers le monde, bouscule les codes et fait danser les rĂ©pertoires. Da
 ns ce programme subtil et vibrant, la pavane â€“ noble danse dâ€™origine e
 spagnole â€“ devient le fil rouge entre lyrisme et Ă©nergie. De Ravel Ă  F
 aurĂ©, en passant par Fernande Decruck, les Ĺ“uvres revisitĂ©es par les qu
 atre musiciens rĂ©vĂ¨lent toute la finesse du timbre et du jeu de cet inst
 rument. Bernstein apporte une touche de Broadway avec des extraits Ă©lectr
 isants de West Side Story, tandis quâ€™AlbĂ©niz fait Ă©clore des couleurs 
 andalouses envoĂ»tantes. Avec virtuositĂ©, audace et passion, le Quatuor E
 llipsos transforme le concert en une vĂ©ritable chorĂ©graphie sonore. Un m
 oment dâ€™Ă©coute intense, entre mouvement et Ă©motion, proposĂ© par lâ€™u
 n des quatuors les plus brillants de la scĂ¨ne musicale actuelle. FormĂ© e
 n 2004 Ă  Nantes, le quatuor a reĂ§u lâ€™enseignement de Paul Meyer et Ă‰r
 ic Le Sage au Conservatoire de Paris ; il a travaillĂ© Ă©galement avec Mau
 rice Bourgue Ă  Avignon, Claire DĂ©sert au Moulin dâ€™AndĂ©, Christian Lau
 ba Ă  Bordeaux, et Thierry Escaich avec lequel sâ€™est nouĂ© une vĂ©ritabl
 e et durable complicitĂ©. Remportant en 2007 le Premier Prix Ă  lâ€™unanim
 itĂ© du Concours europĂ©en â€śMusiques dâ€™Ensemble 2007â€ł organisĂ© par 
 la FNAPEC â€“ un â€śPrix Ellipsosâ€ť a depuis Ă©tĂ© crĂ©Ă©, rĂ©compensant 
 le meilleur ensemble Ă  vents de la compĂ©tition -, il est Ă  ce jour le q
 uatuor de saxophones le plus diffusĂ© Ă  la radio et Ă  la tĂ©lĂ©vision fr
 anĂ§aise. Il est aussi le premier quatuor de saxophones invitĂ© dâ€™honneu
 r comme â€ťEnsemble de lâ€™annĂ©eâ€ť aux Victoires de la Musique Classique
  2020. AprĂ¨s plus de 20 ans dâ€™existence, sa carriĂ¨re lâ€™a menĂ© Ă  jo
 uer plus de 1 000 concerts sur les scĂ¨nes les plus prestigieuses de Franc
 e ainsi que sur de nombreuses scĂ¨nes internationales dans plus de 17 pays
 . Avec la participation de lâ€™Ă‰cole de musique de Saumur Val de Loire.
LOCATION:Le Cube
rue du CollĂ¨ge
DTSTAMP:20260325T103418Z
DTSTART:20260530T153000Z
DTEND:20260530T164000Z
END:VEVENT
END:VCALENDAR