BEGIN:VCALENDAR
VERSION:2.0
PRODID:https://github.com/derhansen/sf_event_mgt
METHOD:PUBLISH
BEGIN:VEVENT
UID:14912-611@www.maine-et-loire.fr
CLASS: PUBLIC
SUMMARY:Quiz plantes
DESCRIPTION:Dans le cadre des Rendez-vous nature 2026.\n\nPartez à la déc
 ouverte des bois du Parc de l’Isle Briand ! Quiz, jeux d’exploration e
 t sensoriels, en équipe, en duo...une autre façon de rencontrer les plan
 tes sauvages de ce magnifique site naturel. Dégustation d’une boisson a
 ux plantes à la fin de la balade !
LOCATION:Parking intérieur dans le bois
DTSTAMP:20260209T154647Z
DTSTART:20261021T115540Z
DTEND:20261021T115540Z
END:VEVENT
END:VCALENDAR