BEGIN:VCALENDAR
VERSION:2.0
PRODID:https://github.com/derhansen/sf_event_mgt
METHOD:PUBLISH
BEGIN:VEVENT
UID:14690-611@www.maine-et-loire.fr
CLASS: PUBLIC
SUMMARY:Quiz plantes
DESCRIPTION:Dans le cadre des Rendez-vous nature 2026.\n\nPartez à la déc
 ouverte du Vallon de Misengrain ! Quiz, questions-réponses, jeux d’expl
 oration et sensoriels, en équipe, en duo... une autre façon de rencontre
 r les plantes sauvages de ce magnifique site naturel. Dégustation d’une
  boisson aux plantes à la fin de la balade !
LOCATION:Parc de loisirs Saint Blaise
DTSTAMP:20260415T074951Z
DTSTART:20260422T115539Z
DTEND:20260422T115539Z
END:VEVENT
END:VCALENDAR