BEGIN:VCALENDAR
VERSION:2.0
PRODID:https://github.com/derhansen/sf_event_mgt
METHOD:PUBLISH
BEGIN:VEVENT
UID:14688-611@www.maine-et-loire.fr
CLASS: PUBLIC
SUMMARY:Racotages sauvages
DESCRIPTION:Dans le cadre des Rendez-vous nature 2026.\n\nMoments de connex
 ion avec le vivant , les plantes Ã  fabrique sont une invitation Ã  ouvrir
  lâ€™Ã©tincelle crÃ©ative qui sommeille en chacun de nous. Lâ€™appel du vÃ
 ©gÃ©tal vous propose une balade dÃ©couverte des plantes avec la fabricatio
 n d'un jouet vÃ©gÃ©tal.
LOCATION:FÃ©dÃ©ration de la pÃªche
Brissac-QuincÃ©
DTSTAMP:20260209T151114Z
DTSTART:20260422T115539Z
DTEND:20260422T115539Z
END:VEVENT
END:VCALENDAR