BEGIN:VCALENDAR
VERSION:2.0
PRODID:https://github.com/derhansen/sf_event_mgt
METHOD:PUBLISH
BEGIN:VEVENT
UID:14689-611@www.maine-et-loire.fr
CLASS: PUBLIC
SUMMARY:Rallye fleurs et petites bêtes
DESCRIPTION:Dans le cadre des Rendez-vous nature 2026.\n\nCette balade invi
 te à rechercher fleurs et petites bêtes, guidés par Fabien. Chaque miss
 ion consiste à photographier les espèces repérées à l’aide d’un s
 martphone équipé d’un objectif complémentaire. Tout au long du parcou
 rs, Fabien aide à identifier les découvertes. En fin d’activité, un t
 emps de partage permet de présenter ses plus beaux clichés. Une initiati
 on à l’application iNaturalist sera proposée pour associer observation
  et sciences participatives.
LOCATION:Levée de Belle Poule, intersection de la rue Kléber
DTSTAMP:20260415T074847Z
DTSTART:20260422T115539Z
DTEND:20260422T115539Z
END:VEVENT
END:VCALENDAR