BEGIN:VCALENDAR
VERSION:2.0
PRODID:https://github.com/derhansen/sf_event_mgt
METHOD:PUBLISH
BEGIN:VEVENT
UID:14770-611@www.maine-et-loire.fr
CLASS: PUBLIC
SUMMARY:Rallye photo en quête de minis
DESCRIPTION:Dans le cadre des Rendez-vous nature 2026.\n\nEn famille, parte
 z à la découverte des trésors de la nature ! Avec l’aide de vos enfan
 ts, explorez et observez les plantes et petites bêtes repérées par Fabi
 en, photographe naturaliste. Munis de votre smartphone et d’une « loupe
  » spéciale, immortalisez vos découvertes en photo – un vrai travail 
 d’équipe ! Fabien vous dévoilera ensuite les secrets des espèces renc
 ontrées.
LOCATION:Théâtre de verdure
16 rue du stade
Andard
DTSTAMP:20260209T152842Z
DTSTART:20260606T115539Z
DTEND:20260606T115539Z
END:VEVENT
END:VCALENDAR