BEGIN:VCALENDAR
VERSION:2.0
PRODID:https://github.com/derhansen/sf_event_mgt
METHOD:PUBLISH
BEGIN:VEVENT
UID:14825-611@www.maine-et-loire.fr
CLASS: PUBLIC
SUMMARY:Rallye zone humide zone utile
DESCRIPTION:Dans le cadre des Rendez-vous nature 2026.\n\nEnvie d'un rallye
  en famille ? D'en savoir plus sur ces « zones humides » ? Rejoignez-nou
 s pour apprendre tout en vous amusant leurs rôles essentiels, pour les ê
 tres vivants ou la qualité de l’eau.\n\nPrévoir chaussures de marche e
 t vêtements adapté à la météo.
LOCATION:Place de l'église
Vaulandry
DTSTAMP:20260209T153607Z
DTSTART:20260719T115539Z
DTEND:20260719T115539Z
END:VEVENT
END:VCALENDAR