BEGIN:VCALENDAR
VERSION:2.0
PRODID:https://github.com/derhansen/sf_event_mgt
METHOD:PUBLISH
BEGIN:VEVENT
UID:14889-611@www.maine-et-loire.fr
CLASS: PUBLIC
SUMMARY:Rando et cosmÃ©to
DESCRIPTION:Dans le cadre des Rendez-vous nature 2026.\n\nUn autre regard s
 ur la natureÂ : plantes sauvages et fabrication dâ€™une cosmÃ©tique fluide
 . Profitez des beaux jours pour une immersion dans la nature lors dâ€™une 
 courte randonnÃ©e, Ã  la dÃ©couverte des plantes et des arbres. Apprenez Ã
   reconnaÃ®tre les plantes sauvages et Ã  vous familiariser avec leurs ver
 tus thÃ©rapeutiques. En lien avec la randonnÃ©e, fabriquez votre propre co
 smÃ©tique fluide et repartez avec votre flacon !
LOCATION:La MonniÃ¨re
1574 route des Landes
DTSTAMP:20260209T154412Z
DTSTART:20260926T115540Z
DTEND:20260926T115540Z
END:VEVENT
END:VCALENDAR