BEGIN:VCALENDAR
VERSION:2.0
PRODID:https://github.com/derhansen/sf_event_mgt
METHOD:PUBLISH
BEGIN:VEVENT
UID:15126-569@www.maine-et-loire.fr
CLASS: PUBLIC
SUMMARY:Randonnée de l'école NDSC de Chanzeaux
DESCRIPTION:Venez randonner dans les plus jolis endroits de Chanzeaux, aux 
 abords de l’hyrôme, avec 3 circuits de 5, 14 et 18 kms. Il y en a pour 
 tous les goûts! Un départ groupé pour les enfants est proposé à 9h30,
  parce que c’est toujours plus sympa de marcher avec les amis !\n\nProfi
 tez également de l’ouverture exceptionnelle du parc du château.\n\nUn 
 apéritif et des fouaces vous sont proposés au retour, dans le parc arbor
 é de l’école. Bon moment garantie !
LOCATION:10 rue saint fiacre
Chanzeaux
DTSTAMP:20260224T133504Z
DTSTART:20260425T220000Z
DTEND:20260425T220000Z
END:VEVENT
END:VCALENDAR