BEGIN:VCALENDAR
VERSION:2.0
PRODID:https://github.com/derhansen/sf_event_mgt
METHOD:PUBLISH
BEGIN:VEVENT
UID:14715-611@www.maine-et-loire.fr
CLASS: PUBLIC
SUMMARY:Randonnée œnologique
DESCRIPTION:Dans le cadre des Rendez-vous nature 2026.\n\nRandonnée ponctu
 ée de haltes informatives, traversant les parcelles viticole. Dégustatio
 n en fin de balade.\n\nAdultes uniquement.
LOCATION:Centre socioculturel douessin
DTSTAMP:20260423T130845Z
DTSTART:20260507T115539Z
DTEND:20260507T115539Z
END:VEVENT
END:VCALENDAR