BEGIN:VCALENDAR
VERSION:2.0
PRODID:https://github.com/derhansen/sf_event_mgt
METHOD:PUBLISH
BEGIN:VEVENT
UID:14765-611@www.maine-et-loire.fr
CLASS: PUBLIC
SUMMARY:Recensons plantes et insectes
DESCRIPTION:Dans le cadre des Rendez-vous nature 2026.\n\nEnvie de mieux ob
 server la nature… et de la capturer autrement ? Cette animation propose 
 une initiation à la photographie naturaliste avec smartphone : comment ob
 tenir une image nette ? Quels détails privilégier pour bien identifier u
 ne plante ou un insecte ? Une fois les clichés en poche, place à l’ide
 ntification grâce à l’application iNaturalist, à installer avant l’
 atelier. Chaque observation contribue ensuite à une base de données scie
 ntifique, pour allier plaisir, curiosité et démarche participative.
LOCATION:Route de Juigné
DTSTAMP:20260209T152814Z
DTSTART:20260606T115539Z
DTEND:20260606T115539Z
END:VEVENT
END:VCALENDAR