BEGIN:VCALENDAR
VERSION:2.0
PRODID:https://github.com/derhansen/sf_event_mgt
METHOD:PUBLISH
BEGIN:VEVENT
UID:14767-611@www.maine-et-loire.fr
CLASS: PUBLIC
SUMMARY:Rencontre du 3e type
DESCRIPTION:Dans le cadre des Rendez-vous nature 2026.\n\nPlongeons dans la
  double vie des « odonates » ! Si l'on voit bien à quoi ressemblent les
  adultes si gracieuses, on connait souvent moins leur vie larvaire en mili
 eu aquatique… Il y a des tas de choses étonnantes à apprendre au sujet
  de ces belles demoiselles, alors partons à leur recherche, en vol, comme
  dans l'eau !\n\nPrévoir des chaussures de marche et des vêtements adapt
 é à la météo.
LOCATION:Place de l'église
Vaulandry
DTSTAMP:20260209T152827Z
DTSTART:20260606T115539Z
DTEND:20260606T115539Z
END:VEVENT
END:VCALENDAR