BEGIN:VCALENDAR
VERSION:2.0
PRODID:https://github.com/derhansen/sf_event_mgt
METHOD:PUBLISH
BEGIN:VEVENT
UID:14929-569@www.maine-et-loire.fr
CLASS: PUBLIC
SUMMARY:Rencontres-métiers de l’animal et de la nature
DESCRIPTION:Vous êtes attirés par les métiers de la faune, de la flore e
 t des paysages ? Venez rencontrer de nombreux professionnels et centres de
  formations venus partager leur expérience et leur passion sur leurs stan
 ds. Ils exposeront la réalité concrète des métiers et expliqueront les
  cursus à suivre : de précieuses informations pour un public en quête d
 ’une voie professionnelle.
LOCATION:Bioparc de Doué-la-Fontaine 
103 Rue de Cholet
DTSTAMP:20260122T085358Z
DTSTART:20260925T220000Z
DTEND:20260925T220000Z
END:VEVENT
END:VCALENDAR