BEGIN:VCALENDAR
VERSION:2.0
PRODID:https://github.com/derhansen/sf_event_mgt
METHOD:PUBLISH
BEGIN:VEVENT
UID:15322-569@www.maine-et-loire.fr
CLASS: PUBLIC
SUMMARY:Repair café de CHOLET, La Nocturne : réparer gratuitement plutôt que jeter
DESCRIPTION:Repair-café cholet/ NOCTURNE de la réparation gratuite des ob
 jets électriques, électroniques, informatiques, bois, couture, etc. Le p
 articipant et le bénévole expert tente de réparer l'objet. Pas d'adhés
 ion à payer, une contribution facultative. Une soirée sympa pour se lanc
 er en réparation.
LOCATION:Local ados
Allée des Vanneaux
DTSTAMP:20260422T082121Z
DTSTART:20260611T220000Z
DTEND:20260611T220000Z
END:VEVENT
END:VCALENDAR