BEGIN:VCALENDAR
VERSION:2.0
PRODID:https://github.com/derhansen/sf_event_mgt
METHOD:PUBLISH
BEGIN:VEVENT
UID:14769-611@www.maine-et-loire.fr
CLASS: PUBLIC
SUMMARY:Rives d’été
DESCRIPTION:Dans le cadre des Rendez-vous nature 2026.\n\nRives d’été, 
 c’est la clôture de la saison culturelle et l’ouverture de la saison 
 estivale de Loire-Authion. L’évènement met à l’honneur les bords de
  l’Authion dans l’Espace naturel sensible Marais et bocage de l’Auth
 ion : animations, ateliers et balades découvertes sont proposés pour dé
 couvrir la biodiversité, arrivée et départ de l'Événement Naturelleme
 nt Sportif porté par la Maison de Loire, suivis de créations musicales, 
 d’un concert et d’une séance de cinéma plein air en soirée.\n\nBuve
 tte et petite restauration sur place.
LOCATION:Rue du Stade
Andard
DTSTAMP:20260209T152837Z
DTSTART:20260606T115539Z
DTEND:20260606T115539Z
END:VEVENT
END:VCALENDAR