BEGIN:VCALENDAR
VERSION:2.0
PRODID:https://github.com/derhansen/sf_event_mgt
METHOD:PUBLISH
BEGIN:VEVENT
UID:13718-570@www.maine-et-loire.fr
CLASS: PUBLIC
SUMMARY:Robine DÃ©boÃ®te
DESCRIPTION:Ensemble, elles volent aux riches pour redistribuer aux plus dÃ
 ©munis, et vivent en communautÃ© dans les bois.
LOCATION:Parc de lâ€™Ehpad
DTSTAMP:20250828T072802Z
DTSTART:20260529T220000Z
DTEND:20260529T220000Z
END:VEVENT
END:VCALENDAR