BEGIN:VCALENDAR
VERSION:2.0
PRODID:https://github.com/derhansen/sf_event_mgt
METHOD:PUBLISH
BEGIN:VEVENT
UID:15328-569@www.maine-et-loire.fr
CLASS: PUBLIC
SUMMARY:Rouge En Bouche
DESCRIPTION:Passionnées par l’événementiel, nous avons imaginé une ex
 périence immersive autour de la couleur rouge,\n\nLors de cette soirée, 
 les invités évolueront tout au long du dîner dans une expérience scén
 ographiée.\n\nLe menu sera entièrement décliné autour du rouge et des 
 intervenants viendront explorer le rouge sous différentes facettes : arti
 stes, comédiens, danseurs, professionnels… le rouge sera exploré sous 
 toutes ses formes : artistique, émotionnelle et symbolique, à travers de
 s performances ou prises de parole.
LOCATION:Salons Curnonsky
6 Pl. Maurice Sailland
DTSTAMP:20260423T101158Z
DTSTART:20260424T220000Z
DTEND:20260424T220000Z
END:VEVENT
END:VCALENDAR