BEGIN:VCALENDAR
VERSION:2.0
PRODID:https://github.com/derhansen/sf_event_mgt
METHOD:PUBLISH
BEGIN:VEVENT
UID:14707-611@www.maine-et-loire.fr
CLASS: PUBLIC
SUMMARY:Run and bird
DESCRIPTION:Dans le cadre des Rendez-vous nature 2026.\n\nLa Levée de Bell
 e-Poule est un circuit de running bien connu des Ponts-de-Céais pratiquan
 t la course à pied. Avec cette sortie au pas de course, apprenez-en plus 
 sur ce site en bord de Loire et découvrez les gestes à adopter pour le p
 réserver.
LOCATION:Médiathèque Saint-Exupéry
1 rue Charles de Gaulle
DTSTAMP:20260209T152138Z
DTSTART:20260429T115539Z
DTEND:20260429T115539Z
END:VEVENT
END:VCALENDAR