BEGIN:VCALENDAR
VERSION:2.0
PRODID:https://github.com/derhansen/sf_event_mgt
METHOD:PUBLISH
BEGIN:VEVENT
UID:14726-611@www.maine-et-loire.fr
CLASS: PUBLIC
SUMMARY:Safari photo nature
DESCRIPTION:Dans le cadre des Rendez-vous nature 2026.\n\nDécouvrez le mon
 de fascinant des insectes avec votre smartphone ! Apprenez à capturer la 
 beauté cachée de ces petites créatures : ailes scintillantes, couleurs 
 surprenantes, détails incroyables. Aucune expérience requise, juste votr
 e téléphone !
LOCATION:Fédération de la pêche
Brissac-Quincé
DTSTAMP:20260209T152416Z
DTSTART:20260521T115539Z
DTEND:20260521T115539Z
END:VEVENT
END:VCALENDAR