BEGIN:VCALENDAR
VERSION:2.0
PRODID:https://github.com/derhansen/sf_event_mgt
METHOD:PUBLISH
BEGIN:VEVENT
UID:15112-569@www.maine-et-loire.fr
CLASS: PUBLIC
SUMMARY:Salon de la Danse 2026
DESCRIPTION:Le Salon de la Danse d'Angers est le premier Ã©vÃ¨nement inter-
 danses destinÃ© au grand public, danseurs comme simples spectateurs, pensÃ
 ©e pour nous rÃ©unir autour d'animations, dÃ©monstrations, initiations, co
 nfÃ©rences et une centaine d'exposants : associations, institutions, compa
 gnies, cabarets, Ã©quipementiers, artistes de tous horizons.\n\nAu cÅ“ur d
 u Salon de la Danse se trouve la volontÃ© de mettre en lumiÃ¨re la richess
 e et la diversitÃ© des styles chorÃ©graphiques. Du classique au contempora
 in, en passant par le hip hop, les danses urbaines et les danses folkloriq
 ues, chaque discipline possÃ¨de son histoire, ses codes, sa technique et s
 on mode dâ€™expression.\n\nLâ€™objectif du Salon est de rassembler ces uni
 vers en un mÃªme lieu afin de permettre aux visiteurs de dÃ©couvrir, compr
 endre et apprÃ©cier la pluralitÃ© de la danse. Ã€ travers les dÃ©monstrati
 ons, initiations, rencontres et Ã©changes, le public est invitÃ© Ã  explor
 er la danse sous toutes ses formes et Ã  sâ€™ouvrir Ã  de nouvelles pratiq
 ues.\n\nUn Ã©vÃ©nement pensÃ© comme un espace de dÃ©couverte, de transmiss
 ion et de partage autour dâ€™un art universel.
LOCATION:Centre de CongrÃ¨s Jean Monnier 
 33 Boulevard Carnot
DTSTAMP:20260218T084524Z
DTSTART:20260507T220000Z
DTEND:20260509T220000Z
END:VEVENT
END:VCALENDAR