BEGIN:VCALENDAR
VERSION:2.0
PRODID:https://github.com/derhansen/sf_event_mgt
METHOD:PUBLISH
BEGIN:VEVENT
UID:15300-569@www.maine-et-loire.fr
CLASS: PUBLIC
SUMMARY:Salon du bon vivant
DESCRIPTION:4000m2 de salon au parc expo de cholet les 6 et 7 juin, apérit
 if, terroir et repas en folie, tatoueur dancefloor 80 et convivialité pou
 r la 1ere edition france du salon du bon vivant
LOCATION:Parc des expositions
2 avenue Marcel Prat
DTSTAMP:20260407T082641Z
DTSTART:20260605T220000Z
DTEND:20260606T220000Z
END:VEVENT
END:VCALENDAR