BEGIN:VCALENDAR
VERSION:2.0
PRODID:https://github.com/derhansen/sf_event_mgt
METHOD:PUBLISH
BEGIN:VEVENT
UID:13158-569@www.maine-et-loire.fr
CLASS: PUBLIC
SUMMARY:Salon Habitat & Jardin Cholet
DESCRIPTION:Le prochain Salon Habitat & Jardin de Cholet se déroulera du 2
 8 février au 2 mars 2025 au Parc des Expositions de la Meilleraie.\n\nPou
 r sa 8ème édition, ce salon accueillera 180 exposants locaux et régiona
 ux, prêts à partager leur expertise et à accompagner les 15 000 visiteu
 rs attendus.\n\nDe plus, des conférences seront organisées sur le thème
  des jardins alternatifs, offrant une belle occasion d'approfondir les con
 naissances sur des pratiques de jardinage plus durables et innovantes.
LOCATION:2 Avenue Marcel Prat - Parc des Expositions de la Meilleraie
DTSTAMP:20250306T141632Z
DTSTART:20050227T230000Z
DTEND:20250301T230000Z
END:VEVENT
END:VCALENDAR