BEGIN:VCALENDAR
VERSION:2.0
PRODID:https://github.com/derhansen/sf_event_mgt
METHOD:PUBLISH
BEGIN:VEVENT
UID:14160-569@www.maine-et-loire.fr
CLASS: PUBLIC
SUMMARY:Saumur Attelage
DESCRIPTION:Les meilleurs attelages mondiaux se donnent rendez-vous à l'Hi
 ppodrome de Verrie du 27 au 31 mai 2026.\n\nVenez les encourager et profit
 er d'une belle balade entre amis ou en famille.\n\nVillage exposant et res
 tauration sur place.
LOCATION:19 Chemin de la noue
Hippodrome de Verrie
DTSTAMP:20251120T142017Z
DTSTART:20260526T220000Z
DTEND:20260530T220000Z
END:VEVENT
END:VCALENDAR