BEGIN:VCALENDAR
VERSION:2.0
PRODID:https://github.com/derhansen/sf_event_mgt
METHOD:PUBLISH
BEGIN:VEVENT
UID:14158-569@www.maine-et-loire.fr
CLASS: PUBLIC
SUMMARY:Saumur Complet
DESCRIPTION:Venez fêter les 40 ans de Saumur Complet !\n\nRetrouvez les me
 illeurs cavaliers de ce triathlon équestre avec du dressage le jeudi et v
 endredi et du cross et jumping le week-end ! De nombreuses animations pour
  tous les âges vous attendent, un village exposants et son pôle restaura
 tion agrémentent également le programme de cet événement de haut-nivea
 u. Venez flâner à l'Hippodrome de Verrie et profitez d'un moment en fami
 lle ou entre amis, ambiance garantie !
LOCATION:Hippodrome de Verrie
19 Chemin de la noue
DTSTAMP:20251120T140224Z
DTSTART:20260421T220000Z
DTEND:20260425T220000Z
END:VEVENT
END:VCALENDAR