BEGIN:VCALENDAR
VERSION:2.0
PRODID:https://github.com/derhansen/sf_event_mgt
METHOD:PUBLISH
BEGIN:VEVENT
UID:14860-611@www.maine-et-loire.fr
CLASS: PUBLIC
SUMMARY:Sauvageonnes et comestibles
DESCRIPTION:Dans le cadre des Rendez-vous nature 2026.\n\nDÃ©ambulation Ã  
 la rencontre des plantes sauvages comestibles. Les identifier, les nommer 
 et dÃ©couvrir leurs utilisations pour mieux les connaitre. Vous prÃ©parere
 z Ã©galement quelques recettes pour poursuivre la dÃ©couverte avec vos pap
 illes. Câ€™est une invitation Ã  venir crÃ©er du lien avec notre biodivers
 itÃ© proche. AprÃ¨s chaque sortie, un rÃ©capitulatif des plantes rencontrÃ
 ©es est envoyÃ© aux participants pour continuer Ã  les retrouver dans leur
 s balades et escapades.
LOCATION:Salle Saint-Pierre
Rue de SegrÃ©
DTSTAMP:20260209T154126Z
DTSTART:20260826T115539Z
DTEND:20260826T115539Z
END:VEVENT
END:VCALENDAR