BEGIN:VCALENDAR
VERSION:2.0
PRODID:https://github.com/derhansen/sf_event_mgt
METHOD:PUBLISH
BEGIN:VEVENT
UID:14839-611@www.maine-et-loire.fr
CLASS: PUBLIC
SUMMARY:Secrets des arbres têtards
DESCRIPTION:Dans le cadre des Rendez-vous nature 2026.\n\nQui sont-ils ? Po
 urquoi ce nom ? Qui abritent-t-il ? Découvrez les arbres têtards de la c
 ommune et terminez cette animation en partant à la recherche des Rosalies
  des Alpes.
LOCATION:Lavoir, rue du vieux port
Soucelle
DTSTAMP:20260209T153817Z
DTSTART:20260814T115539Z
DTEND:20260814T115539Z
END:VEVENT
END:VCALENDAR