BEGIN:VCALENDAR
VERSION:2.0
PRODID:https://github.com/derhansen/sf_event_mgt
METHOD:PUBLISH
BEGIN:VEVENT
UID:14703-611@www.maine-et-loire.fr
CLASS: PUBLIC
SUMMARY:Sentinelle des oiseaux
DESCRIPTION:Dans le cadre des Rendez-vous nature 2026.\n\nPrêts à agir po
 ur la biodiversité ? Lancez-vous dans les sciences participatives et appr
 enez à observer les oiseaux emblématiques de notre territoire ! Au progr
 amme : apprenez les bases de l'identification, non seulement visuelle, mai
 s aussi par le chant ! Mettez en place le protocole EPOC (Estimation des p
 opulations d’oiseaux communs) pour des données qui comptent. Vous deven
 ez un véritable acteur de la recherche ! L'activité a lieu au printemps,
  la saison de la reproduction. C'est le moment rêvé pour entendre et voi
 r les oiseaux ! Que vous soyez débutant curieux ou passionné d'ornitholo
 gie, rejoignez-nous ! Il ne vous reste plus qu'à aiguiser vos sens pour a
 pprendre à les reconnaître !
LOCATION:Médiathèque Saint-Exupéry
1 rue Charles de Gaulle
DTSTAMP:20260209T151317Z
DTSTART:20260425T115539Z
DTEND:20260425T115539Z
END:VEVENT
END:VCALENDAR