BEGIN:VCALENDAR
VERSION:2.0
PRODID:https://github.com/derhansen/sf_event_mgt
METHOD:PUBLISH
BEGIN:VEVENT
UID:15121-569@www.maine-et-loire.fr
CLASS: PUBLIC
SUMMARY:Shake N'Roll !
DESCRIPTION:Venez vibrer au son de la musique rock lors d'une initiation de
  rockabilly en premiÃ¨re partie suivie d'un concert Fun'n'Roll qui revisit
 era le rock des sixties et nous emmÃ¨nera entre swing et uppercuts.\n\n1e 
 partie Ã  20 h : Nous avons le plaisir dâ€™accueillir Fabienne LUDA. Profe
 sseur de danses de salon et ancienne compÃ©titrice, elle vous fera dÃ©couv
 rir le rockabilly durant une heure dâ€™initiation. Venez nombreux pour dÃ©
 couvrir cette danse dynamique et vous dÃ©hancher lors du concert qui suit 
 !\n\n2e partie Ã  21 h 20 : No Way Back vous a concoctÃ© un concert Funâ€™
 nâ€™Roll inspirÃ© de la musique Surf et du Rock des sixties qui va vous rÃ
 ©concilier avec lâ€™Instant PrÃ©sent. Notre fine Ã©quipe vous fera surfer 
 entre Rockâ€™nâ€™roll et riffs revisitÃ©s, entre Swing et uppercuts de Fun
 , entre guitares vintages et tubes qui tÃ¢chentâ€¦
LOCATION:Espace LonguenÃ©e
2336 Rue du Plessis-MacÃ©
DTSTAMP:20260220T103433Z
DTSTART:20260611T220000Z
DTEND:20260611T220000Z
END:VEVENT
END:VCALENDAR