BEGIN:VCALENDAR
VERSION:2.0
PRODID:https://github.com/derhansen/sf_event_mgt
METHOD:PUBLISH
BEGIN:VEVENT
UID:15323-569@www.maine-et-loire.fr
CLASS: PUBLIC
SUMMARY:Soirée de la mobilité européenne - 12 mai 2026
DESCRIPTION:Le Corps Européen de Solidarité est un dispositif de volontar
 iat, financé par l'UE. Il s'adresse à tous jeunes de 18 à 30 ans sans c
 ondition de diplôme ni d'expérience. Il permet de faire un volontariat d
 e 2 semaines à 12 mois dans un autre pays de l'UE. Tous les frais sont pr
 is en charge pour le/la volontaire (voyage, hébergement, nourriture, etc.
 ). De plus le/la volontaire bénéficie d'un cadre sécurisé (hébergemen
 t déjà prévu, organisations labellisées par l'UE, etc.) avec un accomp
 agnement renforcé (organisme de soutien dans le pays d'origine, organisme
  d'accueil avec tuteur/tutrice sur place).\n\nLors de cette soirée, le di
 spositif sera présenté en détail (fonctionnement du CES, où trouver le
 s offres de volontariat et comment y postuler, etc.) et des anciens volont
 aires viendront témoigner de leurs expérience. Une grande place sera lai
 ssée aux échanges avec le public.
LOCATION:Fédération régionale Familles Rurales Pays de la Loire
107 rue de Létanduère
DTSTAMP:20260422T082419Z
DTSTART:20260511T220000Z
DTEND:20260511T220000Z
END:VEVENT
END:VCALENDAR