BEGIN:VCALENDAR
VERSION:2.0
PRODID:https://github.com/derhansen/sf_event_mgt
METHOD:PUBLISH
BEGIN:VEVENT
UID:14967-570@www.maine-et-loire.fr
CLASS: PUBLIC
SUMMARY:Sono Io
DESCRIPTION:Depuis 1996, Circus Ronaldo enchante le monde. Sono Io raconte 
 avec humour et émotion la quête d’un père et de son fils pour se ret
 rouver et célébrer leurs liens et différences.
LOCATION:Place de la Bilange
DTSTAMP:20260126T075833Z
DTSTART:20260605T220000Z
DTEND:20260606T220000Z
END:VEVENT
END:VCALENDAR