BEGIN:VCALENDAR
VERSION:2.0
PRODID:https://github.com/derhansen/sf_event_mgt
METHOD:PUBLISH
BEGIN:VEVENT
UID:13687-570@www.maine-et-loire.fr
CLASS: PUBLIC
SUMMARY:Sono Io
DESCRIPTION:Nommé « meilleur spectacle de théâtre de 2022 », c'est une
  tentative de se (re)trouver entre un père et un fils ; deux clowns à la
  recherche de leurs ressemblances et de leur singularité.
LOCATION:Le Dôme
Pl. de la Bilange
DTSTAMP:20260126T075745Z
DTSTART:20260604T220000Z
DTEND:20260604T220000Z
END:VEVENT
END:VCALENDAR