BEGIN:VCALENDAR
VERSION:2.0
PRODID:https://github.com/derhansen/sf_event_mgt
METHOD:PUBLISH
BEGIN:VEVENT
UID:14873-611@www.maine-et-loire.fr
CLASS: PUBLIC
SUMMARY:Sortie avec la LPO en bateau
DESCRIPTION:Dans le cadre des Rendez-vous nature 2026.\n\nEmbarquez à bord
  du bateau traditionnel, le Vent d'Soulair, pour observer la faune. Chaque
  balade est unique et vous offrira un point de vue inédit sur la fragile 
 biodiversité de la Loire. Avec la LPO 49, vous découvrirez les actions d
 e protection mises en place pour préserver les populations d'oiseaux comm
 e les Sternes ou le Petit-Gravelot.
LOCATION:Parking des quais de la Loire
Saint-Florent-le-Vieil
DTSTAMP:20260219T091530Z
DTSTART:20260906T115540Z
DTEND:20260906T115540Z
END:VEVENT
END:VCALENDAR